Workbook
Name chiffre: #REF!
Name chiffre: #REF!
Name chiffre: #REF!
Name chiffre: #REF!
Name chiffre: #REF!
Name chiffre: #REF!
Name chiffre: #REF!
Name chiffre: #REF!
Name chiffre: #REF!
Name chiffre: #REF!
Name chiffre: #REF!
Name chiffre: #REF!
Name chiffre: #REF!
Name chiffre: #REF!
Name chiffre: #REF!
Name donnee: #REF!
Name donnee: #REF!
Name donnee: #REF!
Name donnee: #REF!
Name donnee: #REF!
Name donnee: #REF!
Name donnee: #REF!
Name donnee: #REF!
Name donnee: #REF!
Name donnee: #REF!
Name donnee: #REF!
Name donnee: #REF!
Name donnee: #REF!
Name donnee: #REF!
Name donnee: #REF!
Name note: #REF!
Name note: #REF!
Name note: #REF!
Name note: #REF!
Name note: #REF!
Name note: #REF!
Name note: #REF!
Name note: #REF!
Name note: #REF!
Name note: #REF!
Name note: #REF!
Name note: #REF!
Name note: #REF!
Name note: #REF!
Name note: #REF!
Name source: #REF!
Name source: #REF!
Name source: #REF!
Name source: #REF!
Name source: #REF!
Name source: #REF!
Name source: #REF!
Name source: #REF!
Name source: #REF!
Name source: #REF!
Name source: #REF!
Name source: #REF!
Name source: #REF!
Name source: #REF!
Name source: #REF!

Sheet SECTION_N_CR_2017
A1: Caractéristiques comptables, financières et d'emploi des entreprises - Compte de résultat au niveau division selon la catégorie d'entreprise
A2: Note de lecture : N = Donnée non disponible, S = Donnée soumise au secret statistique
A3: Champ : France - Ensemble des entreprises marchandes y compris auto-entrepreneurs, hors agriculture et hors services financiers et d'assurance (mais y compris auxiliaires de services financiers et d'assurance, sociétés holdings)
A4: Source : Insee, Esane 2017
A6: en millions d'euros
A7: secteur d'activité | B7: N | C7: N | D7: N | E7: N | F7: 77 | G7: 77 | H7: 77 | I7: 77 | J7: 78 | K7: 78 | L7: 78 | M7: 78 | N7: 79 | O7: 79 | P7: 79 | Q7: 79 | R7: 80 | S7: 80 | T7: 80 | U7: 80 | V7: 81 | W7: 81 | X7: 81 | Y7: 81 | Z7: 82 | AA7: 82 | AB7: 82 | AC7: 82
A8: activité | B8: Activités de services administratifs et de soutien | C8: Activités de services administratifs et de soutien | D8: Activités de services administratifs et de soutien | E8: Activités de services administratifs et de soutien | F8: Activités de location et location-bail | G8: Activités de location et location-bail | H8: Activités de location et location-bail | I8: Activités de location et location-bail | J8: Activités liées à l'emploi | K8: Activités liées à l'emploi | L8: Activités liées à l'emploi | M8: Activités liées à l'emploi | N8: Activités des agences de voyage, voyagistes, services de réservation et activités connexes | O8: Activités des agences de voyage, voyagistes, services de réservation et activités connexes | P8: Activités des agences de voyage, voyagistes, services de réservation et activités connexes | Q8: Activités des agences de voyage, voyagistes, services de réservation et activités connexes | R8: Enquêtes et sécurité | S8: Enquêtes et sécurité | T8: Enquêtes et sécurité | U8: Enquêtes et sécurité | V8: Services relatifs aux bâtiments et aménagement paysager | W8: Services relatifs aux bâtiments et aménagement paysager | X8: Services relatifs aux bâtiments et aménagement paysager | Y8: Services relatifs aux bâtiments et aménagement paysager | Z8: Activités administratives et autres activités de soutien aux entreprises | AA8: Activités administratives et autres activités de soutien aux entreprises | AB8: Activités administratives et autres activités de soutien aux entreprises | AC8: Activités administratives et autres activités de soutien aux entreprises
A9: Catégorie d'entreprise | B9: Ensemble des catégories d'entreprise | C9: Microentreprises (MICRO) | D9: Petites et moyennes entreprises (PME), hors Microentreprises | E9: Entreprises de taille intermédiaire (ETI) ou Grandes entreprises (GE) | F9: Ensemble des catégories d'entreprise | G9: Microentreprises (MICRO) | H9: Petites et moyennes entreprises (PME), hors Microentreprises | I9: Entreprises de taille intermédiaire (ETI) ou Grandes entreprises (GE) | J9: Ensemble des catégories d'entreprise | K9: Microentreprises (MICRO) | L9: Petites et moyennes entreprises (PME), hors Microentreprises | M9: Entreprises de taille intermédiaire (ETI) ou Grandes entreprises (GE) | N9: Ensemble des catégories d'entreprise | O9: Microentreprises (MICRO) | P9: Petites et moyennes entreprises (PME), hors Microentreprises | Q9: Entreprises de taille intermédiaire (ETI) ou Grandes entreprises (GE) | R9: Ensemble des catégories d'entreprise | S9: Microentreprises (MICRO) | T9: Petites et moyennes entreprises (PME), hors Microentreprises | U9: Entreprises de taille intermédiaire (ETI) ou Grandes entreprises (GE) | V9: Ensemble des catégories d'entreprise | W9: Microentreprises (MICRO) | X9: Petites et moyennes entreprises (PME), hors Microentreprises | Y9: Entreprises de taille intermédiaire (ETI) ou Grandes entreprises (GE) | Z9: Ensemble des catégories d'entreprise | AA9: Microentreprises (MICRO) | AB9: Petites et moyennes entreprises (PME), hors Microentreprises | AC9: Entreprises de taille intermédiaire (ETI) ou Grandes entreprises (GE)
A10: Nombre d'entreprises | B10: 191875 | C10: 181717 | D10: 9728 | E10: 430 | F10: 38581 | G10: 37634 | H10: 878 | I10: 69 | J10: 7486 | K10: 6207 | L10: 1214 | M10: 65 | N10: 8539 | O10: 7836 | P10: 676 | Q10: 27 | R10: 8085 | S10: 6681 | T10: 1332 | U10: 72 | V10: 76424 | W10: 72594 | X10: 3733 | Y10: 97 | Z10: 52760 | AA10: 50765 | AB10: 1895 | AC10: 100
A11: Chiffre d'affaires Hors Taxes (a+d1+d2) | B11: 149373.51 | C11: 20719.2 | D11: 38640.38 | E11: 90013.93 | F11: 38373.4 | G11: 3646.37 | H11: 7079.28 | I11: 27647.76 | J11: 34514.16 | K11: 2212.6 | L11: 7056.07 | M11: 25245.49 | N11: 12376.32 | O11: 2148.18 | P11: 4535.8 | Q11: 5692.34 | R11: 8841.16 | S11: 1102.07 | T11: 2884.53 | U11: 4854.56 | V11: 23101.76 | W11: 6232.9 | X11: 7572.44 | Y11: 9296.42 | Z11: 32166.7 | AA11: 5377.09 | AB11: 9512.27 | AC11: 17277.35
A12: dont exportations | B12: 12419.7 | C12: 1493.1 | D12: 4018.16 | E12: 6908.44 | F12: 3441.27 | G12: 406.06 | H12: 789.24 | I12: 2245.97 | J12: 364.93 | K12: 27.89 | L12: 138.46 | M12: 198.58 | N12: 4113.85 | O12: 545.49 | P12: 1599.6 | Q12: 1968.76 | R12: 236.88 | S12: 21.73 | T12: 33.02 | U12: 182.13 | V12: 313.91 | W12: 79.79 | X12: 72.86 | Y12: 161.26 | Z12: 3948.86 | AA12: 412.14 | AB12: 1384.98 | AC12: 2151.74
A13: Ventes de marchandises (a) | B13: 10319.87 | C13: 1449.11 | D13: 2305.69 | E13: 6565.07 | F13: 5344.04 | G13: 575.04 | H13: 1122.82 | I13: 3646.18 | J13: 82.98 | K13: 2.14 | L13: 14.28 | M13: 66.56 | N13: 222.53 | O13: 72.26 | P13: 138.63 | Q13: 11.65 | R13: 614.51 | S13: 47.39 | T13: 110.69 | U13: 456.43 | V13: 583.37 | W13: 213.3 | X13: 195.29 | Y13: 174.78 | Z13: 3472.44 | AA13: 538.97 | AB13: 723.99 | AC13: 2209.48
A14: - Achats de marchandises (y compris droits de douanes) (b) | B14: 8190.21 | C14: 1041.35 | D14: 1736.91 | E14: 5411.96 | F14: 4316.78 | G14: 425.7 | H14: 888.79 | I14: 3002.29 | J14: 58.73 | K14: 1.06 | L14: 9.17 | M14: 48.5 | N14: 211.31 | O14: 68.08 | P14: 130.51 | Q14: 12.73 | R14: 399.93 | S14: 24.61 | T14: 64.31 | U14: 311 | V14: 391.99 | W14: 125.02 | X14: 119.36 | Y14: 147.61 | Z14: 2811.47 | AA14: 396.89 | AB14: 524.76 | AC14: 1889.83
A15: - Variation de stock de marchandises (c) | B15: -67.14 | C15: -9.96 | D15: -11.92 | E15: -45.26 | F15: -50.05 | G15: -6.1 | H15: -3.31 | I15: -40.64 | J15: -0.33 | K15: 0 | L15: -0.21 | M15: -0.12 | N15: -0.53 | O15: -0.01 | P15: -0.37 | Q15: -0.15 | R15: -0.5 | S15: -0.47 | T15: -0.27 | U15: 0.24 | V15: -4.09 | W15: -0.46 | X15: -1.53 | Y15: -2.1 | Z15: -11.64 | AA15: -2.92 | AB15: -6.22 | AC15: -2.5
A16: = Marge commerciale I=a-b-c | B16: 2196.81 | C16: 417.72 | D16: 580.7 | E16: 1198.38 | F16: 1077.31 | G16: 155.44 | H16: 237.33 | I16: 684.53 | J16: 24.59 | K16: 1.09 | L16: 5.31 | M16: 18.19 | N16: 11.75 | O16: 4.19 | P16: 8.49 | Q16: -0.93 | R16: 215.09 | S16: 23.25 | T16: 46.65 | U16: 145.18 | V16: 195.46 | W16: 88.74 | X16: 77.46 | Y16: 29.26 | Z16: 672.61 | AA16: 145.01 | AB16: 205.45 | AC16: 322.15
A17: Production vendue de biens (d1) | B17: 2942.83 | C17: 20.62 | D17: 618.12 | E17: 2304.09 | F17: 1720.27 | G17: 5.87 | H17: 179.55 | I17: 1534.86 | J17: 140.3 | K17: 0 | L17: 26.75 | M17: 113.55 | N17: 0 | O17: 0 | P17: 0 | Q17: 0 | R17: 280.86 | S17: 2.26 | T17: 41.3 | U17: 237.31 | V17: 569.7 | W17: 6.03 | X17: 217.81 | Y17: 345.86 | Z17: 231.69 | AA17: 6.47 | AB17: 152.71 | AC17: 72.51
A18: Production vendue de services (d2) | B18: 136110.81 | C18: 19249.47 | D18: 35716.58 | E18: 81144.76 | F18: 31309.09 | G18: 3065.46 | H18: 5776.92 | I18: 22466.71 | J18: 34290.88 | K18: 2210.46 | L18: 7015.04 | M18: 25065.38 | N18: 12153.79 | O18: 2075.93 | P18: 4397.17 | Q18: 5680.69 | R18: 7945.78 | S18: 1052.42 | T18: 2732.54 | U18: 4160.83 | V18: 21948.69 | W18: 6013.56 | X18: 7159.34 | Y18: 8775.78 | Z18: 28462.57 | AA18: 4831.65 | AB18: 8635.57 | AC18: 14995.36
A19: + Production stockée | B19: 36.44 | C19: 159.82 | D19: 38.14 | E19: -161.52 | F19: -165.21 | G19: 0.82 | H19: 12.91 | I19: -178.94 | J19: 2.88 | K19: 2.58 | L19: 0.07 | M19: 0.22 | N19: 3.86 | O19: 0.92 | P19: 2.08 | Q19: 0.86 | R19: 13.91 | S19: 1.67 | T19: 5.38 | U19: 6.86 | V19: 23.39 | W19: 9.39 | X19: -1.04 | Y19: 15.04 | Z19: 157.62 | AA19: 144.44 | AB19: 18.73 | AC19: -5.56
A20: + Production immobilisée | B20: 535.37 | C20: 74.67 | D20: 103.28 | E20: 357.43 | F20: 253.1 | G20: 30.37 | H20: 49.19 | I20: 173.53 | J20: 13.13 | K20: 0.74 | L20: 2.43 | M20: 9.97 | N20: 29.62 | O20: 1.81 | P20: 8.23 | Q20: 19.58 | R20: 56.35 | S20: 0.79 | T20: 3.15 | U20: 52.41 | V20: 69.55 | W20: 7.48 | X20: 4.31 | Y20: 57.76 | Z20: 113.62 | AA20: 33.47 | AB20: 35.97 | AC20: 44.18
A21: = Production totale de biens et services (hors marge commerciale) (d') | B21: 139625.45 | C21: 19504.58 | D21: 36476.12 | E21: 83644.76 | F21: 33117.25 | G21: 3102.52 | H21: 6018.57 | I21: 23996.16 | J21: 34447.18 | K21: 2213.78 | L21: 7044.29 | M21: 25189.12 | N21: 12187.27 | O21: 2078.66 | P21: 4407.48 | Q21: 5701.13 | R21: 8296.9 | S21: 1057.13 | T21: 2782.36 | U21: 4457.41 | V21: 22611.33 | W21: 6036.46 | X21: 7380.43 | Y21: 9194.45 | Z21: 28965.51 | AA21: 5016.03 | AB21: 8842.99 | AC21: 15106.49
... A54: Capacité d'autofinancement | B54: 15430.1 | C54: 2153.49 | D54: 2218.13 | E54: 11058.48 | F54: 9656.82 | G54: 709.68 | H54: 857.86 | I54: 8089.28 | J54: 1723.02 | K54: 85.91 | L54: 448.43 | M54: 1188.67 | N54: 153.71 | O54: 11.05 | P54: 25.38 | Q54: 117.28 | R54: 224.64 | S54: 52.8 | T54: 44.92 | U54: 126.92 | V54: 1570.22 | W54: 775.85 | X54: 393.42 | Y54: 400.95 | Z54: 2101.69 | AA54: 518.19 | AB54: 448.13 | AC54: 1135.37

Sheet SECTION_N_CR_2018
A1: Caractéristiques comptables, financières et d'emploi des entreprises - Compte de résultat au niveau division selon la catégorie d'entreprise
A2: Note de lecture : N = Donnée non disponible, S = Donnée soumise au secret statistique
A3: Champ : France - Ensemble des entreprises marchandes y compris auto-entrepreneurs, hors agriculture et hors services financiers et d'assurance (mais y compris auxiliaires de services financiers et d'assurance, sociétés holdings)
A4: Source : Insee, Esane 2018
A6: en millions d'euros
A7: secteur d'activité | B7: N | C7: N | D7: N | E7: N | F7: 77 | G7: 77 | H7: 77 | I7: 77 | J7: 78 | K7: 78 | L7: 78 | M7: 78 | N7: 79 | O7: 79 | P7: 79 | Q7: 79 | R7: 80 | S7: 80 | T7: 80 | U7: 80 | V7: 81 | W7: 81 | X7: 81 | Y7: 81 | Z7: 82 | AA7: 82 | AB7: 82 | AC7: 82
A8: activité | B8: Activités de services administratifs et de soutien | C8: Activités de services administratifs et de soutien | D8: Activités de services administratifs et de soutien | E8: Activités de services administratifs et de soutien | F8: Activités de location et location-bail | G8: Activités de location et location-bail | H8: Activités de location et location-bail | I8: Activités de location et location-bail | J8: Activités liées à l'emploi | K8: Activités liées à l'emploi | L8: Activités liées à l'emploi | M8: Activités liées à l'emploi | N8: Activités des agences de voyage, voyagistes, services de réservation et activités connexes | O8: Activités des agences de voyage, voyagistes, services de réservation et activités connexes | P8: Activités des agences de voyage, voyagistes, services de réservation et activités connexes | Q8: Activités des agences de voyage, voyagistes, services de réservation et activités connexes | R8: Enquêtes et sécurité | S8: Enquêtes et sécurité | T8: Enquêtes et sécurité | U8: Enquêtes et sécurité | V8: Services relatifs aux bâtiments et aménagement paysager | W8: Services relatifs aux bâtiments et aménagement paysager | X8: Services relatifs aux bâtiments et aménagement paysager | Y8: Services relatifs aux bâtiments et aménagement paysager | Z8: Activités administratives et autres activités de soutien aux entreprises | AA8: Activités administratives et autres activités de soutien aux entreprises | AB8: Activités administratives et autres activités de soutien aux entreprises | AC8: Activités administratives et autres activités de soutien aux entreprises
A9: Catégorie d'entreprise | B9: Ensemble des catégories d'entreprise | C9: Microentreprises (MICRO) | D9: Petites et moyennes entreprises (PME), hors Microentreprises | E9: Entreprises de taille intermédiaire (ETI) ou Grandes entreprises (GE) | F9: Ensemble des catégories d'entreprise | G9: Microentreprises (MICRO) | H9: Petites et moyennes entreprises (PME), hors Microentreprises | I9: Entreprises de taille intermédiaire (ETI) ou Grandes entreprises (GE) | J9: Ensemble des catégories d'entreprise | K9: Microentreprises (MICRO) | L9: Petites et moyennes entreprises (PME), hors Microentreprises | M9: Entreprises de taille intermédiaire (ETI) ou Grandes entreprises (GE) | N9: Ensemble des catégories d'entreprise | O9: Microentreprises (MICRO) | P9: Petites et moyennes entreprises (PME), hors Microentreprises | Q9: Entreprises de taille intermédiaire (ETI) ou Grandes entreprises (GE) | R9: Ensemble des catégories d'entreprise | S9: Microentreprises (MICRO) | T9: Petites et moyennes entreprises (PME), hors Microentreprises | U9: Entreprises de taille intermédiaire (ETI) ou Grandes entreprises (GE) | V9: Ensemble des catégories d'entreprise | W9: Microentreprises (MICRO) | X9: Petites et moyennes entreprises (PME), hors Microentreprises | Y9: Entreprises de taille intermédiaire (ETI) ou Grandes entreprises (GE) | Z9: Ensemble des catégories d'entreprise | AA9: Microentreprises (MICRO) | AB9: Petites et moyennes entreprises (PME), hors Microentreprises | AC9: Entreprises de taille intermédiaire (ETI) ou Grandes entreprises (GE)
A10: Nombre d'entreprises | B10: 201304 | C10: 191012 | D10: 9846 | E10: 446 | F10: 39220 | G10: 38288 | H10: 854 | I10: 78 | J10: 7471 | K10: 6169 | L10: 1231 | M10: 71 | N10: 9035 | O10: 8330 | P10: 678 | Q10: 27 | R10: 7928 | S10: 6566 | T10: 1295 | U10: 67 | V10: 81427 | W10: 77429 | X10: 3896 | Y10: 102 | Z10: 56223 | AA10: 54230 | AB10: 1892 | AC10: 101
A11: Chiffre d'affaires Hors Taxes (a+d1+d2) | B11: 154125.72 | C11: 21417.07 | D11: 40018.54 | E11: 92690.11 | F11: 39069.84 | G11: 3621.9 | H11: 7182.58 | I11: 28265.36 | J11: 37988.47 | K11: 2455.25 | L11: 7392.72 | M11: 28140.5 | N11: 12682.18 | O11: 2192.85 | P11: 4488.2 | Q11: 6001.13 | R11: 9768.98 | S11: 1271.28 | T11: 3129.1 | U11: 5368.6 | V11: 23955.93 | W11: 6377.85 | X11: 7661.13 | Y11: 9916.95 | Z11: 30660.33 | AA11: 5497.94 | AB11: 10164.81 | AC11: 14997.58
A12: dont exportations | B12: 13056.72 | C12: 1288.06 | D12: 4187.66 | E12: 7580.99 | F12: 4355.91 | G12: 319.5 | H12: 833.17 | I12: 3203.23 | J12: 574.99 | K12: 31.59 | L12: 160.14 | M12: 383.26 | N12: 4159.73 | O12: 497.41 | P12: 1691.97 | Q12: 1970.36 | R12: 233.68 | S12: 23.38 | T12: 26.4 | U12: 183.9 | V12: 224.96 | W12: 82.57 | X12: 94.32 | Y12: 48.07 | Z12: 3507.45 | AA12: 333.61 | AB12: 1381.66 | AC12: 1792.18
A13: Ventes de marchandises (a) | B13: 9969.06 | C13: 1548.6 | D13: 2324.72 | E13: 6095.75 | F13: 6131.58 | G13: 569.08 | H13: 1154.89 | I13: 4407.61 | J13: 150.87 | K13: 3.27 | L13: 27.2 | M13: 120.4 | N13: 364.56 | O13: 139.23 | P13: 130.17 | Q13: 95.16 | R13: 561.54 | S13: 43.8 | T13: 69.3 | U13: 448.44 | V13: 530.81 | W13: 220.11 | X13: 190.02 | Y13: 120.67 | Z13: 2229.7 | AA13: 573.1 | AB13: 753.13 | AC13: 903.47
A14: - Achats de marchandises (y compris droits de douanes) (b) | B14: 7669.18 | C14: 1121.87 | D14: 1746.44 | E14: 4800.87 | F14: 4882.15 | G14: 444.94 | H14: 907.42 | I14: 3529.78 | J14: 120.72 | K14: 1.95 | L14: 20.23 | M14: 98.54 | N14: 280.06 | O14: 113.5 | P14: 103.77 | Q14: 62.8 | R14: 323.65 | S14: 21.32 | T14: 33.8 | U14: 268.53 | V14: 309.02 | W14: 122.43 | X14: 103.45 | Y14: 83.14 | Z14: 1753.58 | AA14: 417.72 | AB14: 577.77 | AC14: 758.09
A15: - Variation de stock de marchandises (c) | B15: -123.03 | C15: -33.75 | D15: -27.2 | E15: -62.07 | F15: -87.73 | G15: -21.18 | H15: -15.92 | I15: -50.64 | J15: -0.86 | K15: -0.11 | L15: -0.89 | M15: 0.13 | N15: -2.71 | O15: -0.2 | P15: -1.67 | Q15: -0.85 | R15: -1.97 | S15: -0.66 | T15: -0.47 | U15: -0.85 | V15: -1.7 | W15: -1.69 | X15: -0.75 | Y15: 0.75 | Z15: -28.05 | AA15: -9.91 | AB15: -7.51 | AC15: -10.63
A16: = Marge commerciale I=a-b-c | B16: 2422.91 | C16: 460.48 | D16: 605.48 | E16: 1356.95 | F16: 1337.17 | G16: 145.31 | H16: 263.39 | I16: 928.46 | J16: 31.01 | K16: 1.43 | L16: 7.85 | M16: 21.73 | N16: 87.21 | O16: 25.92 | P16: 28.08 | Q16: 33.21 | R16: 239.86 | S16: 23.14 | T16: 35.97 | U16: 180.75 | V16: 223.48 | W16: 99.37 | X16: 87.32 | Y16: 36.79 | Z16: 504.17 | AA16: 165.29 | AB16: 182.87 | AC16: 156.01
A17: Production vendue de biens (d1) | B17: 3345.39 | C17: 24.6 | D17: 614.19 | E17: 2706.59 | F17: 1835.63 | G17: 3.88 | H17: 233.31 | I17: 1598.44 | J17: 113.34 | K17: 0.95 | L17: 40.78 | M17: 71.61 | N17: 34.84 | O17: 7.1 | P17: 22.09 | Q17: 5.65 | R17: 323.48 | S17: 4.04 | T17: 62.5 | U17: 256.95 | V17: 802.77 | W17: 7.27 | X17: 226.68 | Y17: 568.82 | Z17: 235.3 | AA17: 1.35 | AB17: 28.84 | AC17: 205.11
A18: Production vendue de services (d2) | B18: 140811.27 | C18: 19843.87 | D18: 37079.63 | E18: 83887.77 | F18: 31102.62 | G18: 3048.93 | H18: 5794.39 | I18: 22259.3 | J18: 37724.25 | K18: 2451.02 | L18: 7324.74 | M18: 27948.48 | N18: 12282.77 | O18: 2046.52 | P18: 4335.94 | Q18: 5900.31 | R18: 8883.96 | S18: 1223.44 | T18: 2997.3 | U18: 4663.22 | V18: 22622.34 | W18: 6150.47 | X18: 7244.42 | Y18: 9227.45 | Z18: 28195.33 | AA18: 4923.49 | AB18: 9382.84 | AC18: 13889
A19: + Production stockée | B19: 180.99 | C19: 43.85 | D19: 50.24 | E19: 86.9 | F19: 140.78 | G19: 9.62 | H19: 21.8 | I19: 109.36 | J19: -6.32 | K19: 0.12 | L19: 0.6 | M19: -7.03 | N19: 2.4 | O19: 0.02 | P19: 1.05 | Q19: 1.32 | R19: 5.88 | S19: 0.76 | T19: 5.02 | U19: 0.09 | V19: 22.78 | W19: 9.24 | X19: 9.21 | Y19: 4.33 | Z19: 15.48 | AA19: 24.09 | AB19: 12.56 | AC19: -21.17
A20: + Production immobilisée | B20: 804.11 | C20: 73.96 | D20: 115.45 | E20: 614.7 | F20: 286.64 | G20: 16.15 | H20: 55.66 | I20: 214.82 | J20: 165.85 | K20: 0.42 | L20: 3 | M20: 162.43 | N20: 44.19 | O20: 2.73 | P20: 12.63 | Q20: 28.82 | R20: 62.46 | S20: 1.1 | T20: 3.31 | U20: 58.05 | V20: 73.53 | W20: 8.72 | X20: 4.18 | Y20: 60.64 | Z20: 171.45 | AA20: 44.84 | AB20: 36.67 | AC20: 89.94
A21: = Production totale de biens et services (hors marge commerciale) (d') | B21: 145141.76 | C21: 19986.29 | D21: 37859.51 | E21: 87295.96 | F21: 33365.67 | G21: 3078.58 | H21: 6105.15 | I21: 24181.93 | J21: 37997.12 | K21: 2452.51 | L21: 7369.12 | M21: 28175.49 | N21: 12364.2 | O21: 2056.38 | P21: 4371.71 | Q21: 5936.11 | R21: 9275.77 | S21: 1229.34 | T21: 3068.13 | U21: 4978.3 | V21: 23521.43 | W21: 6175.71 | X21: 7484.49 | Y21: 9861.23 | Z21: 28617.56 | AA21: 4993.76 | AB21: 9460.9 | AC21: 14162.89
... A54: Capacité d'autofinancement | B54: 14348.17 | C54: 2297.27 | D54: 2106.79 | E54: 9944.1 | F54: 9395.42 | G54: 699.21 | H54: 913.23 | I54: 7782.98 | J54: 1152.34 | K54: 62.35 | L54: 216.12 | M54: 873.87 | N54: 82.12 | O54: 58.79 | P54: 56.37 | Q54: -33.04 | R54: 369.17 | S54: 95.57 | T54: 66.79 | U54: 206.81 | V54: 1631.64 | W54: 823.01 | X54: 414.25 | Y54: 394.38 | Z54: 1717.48 | AA54: 558.35 | AB54: 440.03 | AC54: 719.11

Sheet SECTION_N_BILAN_2017
A1: Caractéristiques comptables, financières et d'emploi des unités légales - Bilan au niveau division selon la catégorie d'entreprise
A2: Note de lecture : N = Donnée non disponible, S = Donnée soumise au secret statistique
A3: Champ : France - Ensemble des entreprises marchandes y compris auto-entrepreneurs, hors agriculture et hors services financiers et d'assurance (mais y compris auxiliaires de services financiers et d'assurance, sociétés holdings)
A4: Source : Insee, Esane 2017
A5: en millions d'euros
A6: ACTIF
A7: secteur d'activité | B7: N | C7: N | D7: N | E7: N | F7: 77 | G7: 77 | H7: 77 | I7: 77 | J7: 78 | K7: 78 | L7: 78 | M7: 78 | N7: 79 | O7: 79 | P7: 79 | Q7: 79 | R7: 80 | S7: 80 | T7: 80 | U7: 80 | V7: 81 | W7: 81 | X7: 81 | Y7: 81 | Z7: 82 | AA7: 82 | AB7: 82 | AC7: 82
A8: activité | B8: Activités de services administratifs et de soutien | C8: Activités de services administratifs et de soutien | D8: Activités de services administratifs et de soutien | E8: Activités de services administratifs et de soutien | F8: Activités de location et location-bail | G8: Activités de location et location-bail | H8: Activités de location et location-bail | I8: Activités de location et location-bail | J8: Activités liées à l'emploi | K8: Activités liées à l'emploi | L8: Activités liées à l'emploi | M8: Activités liées à l'emploi | N8: Activités des agences de voyage, voyagistes, services de réservation et activités connexes | O8: Activités des agences de voyage, voyagistes, services de réservation et activités connexes | P8: Activités des agences de voyage, voyagistes, services de réservation et activités connexes | Q8: Activités des agences de voyage, voyagistes, services de réservation et activités connexes | R8: Enquêtes et sécurité | S8: Enquêtes et sécurité | T8: Enquêtes et sécurité | U8: Enquêtes et sécurité | V8: Services relatifs aux bâtiments et aménagement paysager | W8: Services relatifs aux bâtiments et aménagement paysager | X8: Services relatifs aux bâtiments et aménagement paysager | Y8: Services relatifs aux bâtiments et aménagement paysager | Z8: Activités administratives et autres activités de soutien aux entreprises | AA8: Activités administratives et autres activités de soutien aux entreprises | AB8: Activités administratives et autres activités de soutien aux entreprises | AC8: Activités administratives et autres activités de soutien aux entreprises
A9: Tranche d'effectif | B9: Ensemble des catégories d'entreprise | C9: Microentreprises (MICRO) | D9: Petites et moyennes entreprises (PME), hors Microentreprises | E9: Entreprises de taille intermédiaire (ETI) ou Grandes entreprises (GE) | F9: Ensemble des catégories d'entreprise | G9: Microentreprises (MICRO) | H9: Petites et moyennes entreprises (PME), hors Microentreprises | I9: Entreprises de taille intermédiaire (ETI) ou Grandes entreprises (GE) | J9: Ensemble des catégories d'entreprise | K9: Microentreprises (MICRO) | L9: Petites et moyennes entreprises (PME), hors Microentreprises | M9: Entreprises de taille intermédiaire (ETI) ou Grandes entreprises (GE) | N9: Ensemble des catégories d'entreprise | O9: Microentreprises (MICRO) | P9: Petites et moyennes entreprises (PME), hors Microentreprises | Q9: Entreprises de taille intermédiaire (ETI) ou Grandes entreprises (GE) | R9: Ensemble des catégories d'entreprise | S9: Microentreprises (MICRO) | T9: Petites et moyennes entreprises (PME), hors Microentreprises | U9: Entreprises de taille intermédiaire (ETI) ou Grandes entreprises (GE) | V9: Ensemble des catégories d'entreprise | W9: Microentreprises (MICRO) | X9: Petites et moyennes entreprises (PME), hors Microentreprises | Y9: Entreprises de taille intermédiaire (ETI) ou Grandes entreprises (GE) | Z9: Ensemble des catégories d'entreprise | AA9: Microentreprises (MICRO) | AB9: Petites et moyennes entreprises (PME), hors Microentreprises | AC9: Entreprises de taille intermédiaire (ETI) ou Grandes entreprises (GE)
A10: Nombre d'entreprises | B10: 191875 | C10: 181717 | D10: 9728 | E10: 430 | F10: 38581 | G10: 37634 | H10: 878 | I10: 69 | J10: 7486 | K10: 6207 | L10: 1214 | M10: 65 | N10: 8539 | O10: 7836 | P10: 676 | Q10: 27 | R10: 8085 | S10: 6681 | T10: 1332 | U10: 72 | V10: 76424 | W10: 72594 | X10: 3733 | Y10: 97 | Z10: 52760 | AA10: 50765 | AB10: 1895 | AC10: 100
A11: Capital souscrit non appelé (I) | B11: 580.18 | C11: 5.77 | D11: 4.53 | E11: 569.88 | F11: 554.52 | G11: 1.56 | H11: 1.61 | I11: 551.35 | J11: 1.01 | K11: 0.5 | L11: 0.28 | M11: 0.24 | N11: 2.55 | O11: 1.16 | P11: 0.6 | Q11: 0.79 | R11: 1.09 | S11: 0.3 | T11: 0.73 | U11: 0.05 | V11: 1.89 | W11: 0.48 | X11: 0.35 | Y11: 1.06 | Z11: 19.13 | AA11: 1.78 | AB11: 0.96 | AC11: 16.39
A12: Immobilisations incorporelles brutes (a) | B12: 17596.43 | C12: 1389.12 | D12: 2798.9 | E12: 13408.41 | F12: 5775.72 | G12: 311.58 | H12: 828.27 | I12: 4635.87 | J12: 2231.97 | K12: 64.23 | L12: 162.24 | M12: 2005.49 | N12: 1479.47 | O12: 117.62 | P12: 254.12 | Q12: 1107.73 | R12: 1046.01 | S12: 32.33 | T12: 118.18 | U12: 895.51 | V12: 2074.17 | W12: 350.53 | X12: 348.51 | Y12: 1375.13 | Z12: 4989.1 | AA12: 512.84 | AB12: 1087.58 | AC12: 3388.68
A13: Dont Fonds commercial | B13: 10272.66 | C13: 753.31 | D13: 1619.04 | E13: 7900.3 | F13: 3231.96 | G13: 181.64 | H13: 565.11 | I13: 2485.21 | J13: 1606.28 | K13: 12.94 | L13: 104.91 | M13: 1488.43 | N13: 981.95 | O13: 67.41 | P13: 122.93 | Q13: 791.61 | R13: 843.26 | S13: 22.3 | T13: 72.18 | U13: 748.79 | V13: 1659.77 | W13: 266.25 | X13: 291.53 | Y13: 1102 | Z13: 1949.43 | AA13: 202.77 | AB13: 462.38 | AC13: 1284.28
A14: Immobilisations corporelles brutes (b) | B14: 91004.52 | C14: 16219.12 | D14: 12657.41 | E14: 62127.99 | F14: 67817.96 | G14: 8140.76 | H14: 7191.57 | I14: 52485.63 | J14: 1289.26 | K14: 87.65 | L14: 245.75 | M14: 955.85 | N14: 1205.95 | O14: 284.83 | P14: 419.65 | Q14: 501.47 | R14: 1516.66 | S14: 121.55 | T14: 241.68 | U14: 1153.44 | V14: 9206.09 | W14: 5062.84 | X14: 1721.57 | Y14: 2421.68 | Z14: 9968.6 | AA14: 2521.49 | AB14: 2837.19 | AC14: 4609.92
A15: Dont Terrains | B15: 2316.76 | C15: 257.74 | D15: 248.78 | E15: 1810.24 | F15: 1224.87 | G15: 134.39 | H15: 106.42 | I15: 984.06 | J15: 35.32 | K15: 2.41 | L15: 15.49 | M15: 17.42 | N15: 4.05 | O15: 5.79 | P15: 3.29 | Q15: -N- | R15: 13.03 | S15: 2.06 | T15: 2.79 | U15: 8.18 | V15: 150.6 | W15: 62.64 | X15: 35.86 | Y15: 52.1 | Z15: 888.88 | AA15: 50.46 | AB15: 84.92 | AC15: 753.5
A16: Constructions | B16: 11326.61 | C16: 2287.25 | D16: 2133.3 | E16: 6906.06 | F16: 5242.99 | G16: 480.92 | H16: 797.54 | I16: 3964.53 | J16: 383.24 | K16: 11.32 | L16: 65.45 | M16: 306.46 | N16: 99.83 | O16: 15.11 | P16: 83.03 | Q16: 1.69 | R16: 151.99 | S16: 9.42 | T16: 37.41 | U16: 105.16 | V16: 2896.32 | W16: 1295.51 | X16: 317.14 | Y16: 1283.67 | Z16: 2552.24 | AA16: 474.98 | AB16: 832.73 | AC16: 1244.54
A17: Installations techniques, matériel et outillage industriels | B17: 28530.16 | C17: 9968.77 | D17: 5212.94 | E17: 13348.44 | F17: 20210.19 | G17: 5401.99 | H17: 3528.98 | I17: 11279.21 | J17: 145.04 | K17: 14.92 | L17: 8.96 | M17: 121.17 | N17: 235.65 | O17: 156.38 | P17: 63.27 | Q17: 15.99 | R17: 654.27 | S17: 76.8 | T17: 69.95 | U17: 507.52 | V17: 4120.85 | W17: 2874.47 | X17: 656.21 | Y17: 590.17 | Z17: 3164.16 | AA17: 1444.21 | AB17: 885.57 | AC17: 834.38
A18: Autres immobilisations corporelles | B18: 47054.36 | C18: 3598.12 | D18: 4756.86 | E18: 38699.38 | F18: 40186.88 | G18: 2079.85 | H18: 2603.19 | I18: 35503.84 | J18: 696.75 | K18: 48.85 | L18: 151.42 | M18: 496.48 | N18: 825.97 | O18: 106.58 | P18: 265.71 | Q18: 453.67 | R18: 652.82 | S18: 32.92 | T18: 127.1 | U18: 492.81 | V18: 1957.98 | W18: 823.04 | X18: 701.56 | Y18: 433.38 | Z18: 2733.96 | AA18: 506.89 | AB18: 907.87 | AC18: 1319.2
A19: dont matériel de transport: | B19: 31108.44 | C19: 3868.7 | D19: 2817.1 | E19: 24422.64 | F19: 28703.47 | G19: 2667.25 | H19: 2123.79 | I19: 23912.42 | J19: 62.27 | K19: 17.45 | L19: 26.1 | M19: 18.72 | N19: 305.23 | O19: 33.47 | P19: 81.48 | Q19: 190.28 | R19: 220.96 | S19: 36.55 | T19: 46.94 | U19: 137.47 | V19: 1433.52 | W19: 835.19 | X19: 457.02 | Y19: 141.31 | Z19: 382.98 | AA19: 278.79 | AB19: 81.76 | AC19: 22.43
A20: Immobilisations en cours | B20: 1657.1 | C20: 101.81 | D20: 236.16 | E20: 1319.13 | F20: 922.69 | G20: 41.61 | H20: 144 | I20: 737.08 | J20: 27.67 | K20: 10.1 | L20: 4.09 | M20: 13.48 | N20: 19.86 | O20: 0.93 | P20: 3.32 | Q20: 15.61 | R20: 42.91 | S20: 0.3 | T20: 4.09 | U20: 38.52 | V20: 77.37 | W20: 6.92 | X20: 9.3 | Y20: 61.14 | Z20: 566.61 | AA20: 41.94 | AB20: 71.36 | AC20: 453.31
A21: Avances et acomptes | B21: 119.53 | C21: 5.42 | D21: 69.36 | E21: 44.76 | F21: 30.34 | G21: 2 | H21: 11.44 | I21: 16.91 | J21: 1.24 | K21: 0.06 | L21: 0.33 | M21: 0.85 | N21: 20.59 | O21: 0.03 | P21: 1.02 | Q21: 19.54 | R21: 1.63 | S21: 0.05 | T21: 0.33 | U21: 1.25 | V21: 2.97 | W21: 0.26 | X21: 1.5 | Y21: 1.21 | Z21: 62.76 | AA21: 3.01 | AB21: 54.75 | AC21: 5
A22: Immobilisations financières brutes (c) | B22: 187743.87 | C22: 6544.53 | D22: 13360 | E22: 167839.34 | F22: 105029.2 | G22: 912.15 | H22: 4379.33 | I22: 99737.72 | J22: 17786.7 | K22: 119.66 | L22: 2728.39 | M22: 14938.64 | N22: 4954.33 | O22: 242.51 | P22: 1086.17 | Q22: 3625.66 | R22: 1874.66 | S22: 40.97 | T22: 476.6 | U22: 1357.09 | V22: 6455.12 | W22: 1285.31 | X22: 975.34 | Y22: 4194.48 | Z22: 51643.86 | AA22: 3943.94 | AB22: 3714.16 | AC22: 43985.75
A23: Total de l'actif immobilisé brut (II=a+b+c) | B23: 296344.82 | C23: 24152.77 | D23: 28816.3 | E23: 243375.75 | F23: 178622.88 | G23: 9364.48 | H23: 12399.17 | I23: 156859.23 | J23: 21307.92 | K23: 271.55 | L23: 3136.38 | M23: 17899.99 | N23: 7639.75 | O23: 644.96 | P23: 1759.94 | Q23: 5234.85 | R23: 4437.33 | S23: 194.84 | T23: 836.46 | U23: 3406.03 | V23: 17735.38 | W23: 6698.67 | X23: 3045.42 | Y23: 7991.29 | Z23: 66601.56 | AA23: 6978.26 | AB23: 7638.94 | AC23: 51984.36
A24: Stocks (d) | B24: 3520.67 | C24: 756.03 | D24: 913.92 | E24: 1850.72 | F24: 1922.64 | G24: 190.63 | H24: 327.64 | I24: 1404.38 | J24: 15.42 | K24: 4.77 | L24: 6.69 | M24: 3.96 | N24: 63.93 | O24: 16.45 | P24: 27.36 | Q24: 20.12 | R24: 158.34 | S24: 15.69 | T24: 36.32 | U24: 106.32 | V24: 470.01 | W24: 196.05 | X24: 178.12 | Y24: 95.84 | Z24: 890.33 | AA24: 332.43 | AB24: 337.78 | AC24: 220.12
A25: Dont Stocks - Matières premières approvisionnement et en cours | B25: 2129.34 | C25: 434.63 | D25: 451.22 | E25: 1243.49 | F25: 1070.16 | G25: 29.4 | H25: 108.02 | I25: 932.74 | J25: 8.36 | K25: 4.35 | L25: 3.07 | M25: 0.94 | N25: 41.04 | O25: 7.94 | P25: 16.75 | Q25: 16.35 | R25: 112.85 | S25: 7.91 | T25: 23.1 | U25: 81.83 | V25: 336.95 | W25: 141.15 | X25: 138.13 | Y25: 57.67 | Z25: 559.99 | AA25: 243.87 | AB25: 162.15 | AC25: 153.97
A26: Stocks de marchandises | B26: 1391.33 | C26: 321.4 | D26: 462.7 | E26: 607.23 | F26: 852.48 | G26: 161.23 | H26: 219.62 | I26: 471.64 | J26: 7.06 | K26: 0.42 | L26: 3.62 | M26: 3.02 | N26: 22.89 | O26: 8.51 | P26: 10.61 | Q26: 3.77 | R26: 45.49 | S26: 7.78 | T26: 13.22 | U26: 24.49 | V26: 133.06 | W26: 54.9 | X26: 39.99 | Y26: 38.17 | Z26: 330.34 | AA26: 88.56 | AB26: 175.63 | AC26: 66.15
A27: Avances et acomptes versés sur commandes (e) | B27: 718.17 | C27: 110.48 | D27: 196.33 | E27: 411.36 | F27: 189.64 | G27: 28.38 | H27: 28.81 | I27: 132.45 | J27: 12.24 | K27: 0.75 | L27: 3.18 | M27: 8.31 | N27: 284.84 | O27: 42.06 | P27: 77.01 | Q27: 165.77 | R27: 20.52 | S27: 2.11 | T27: 2.99 | U27: 15.42 | V27: 22.81 | W27: 12.23 | X27: 6.86 | Y27: 3.72 | Z27: 188.12 | AA27: 24.95 | AB27: 77.48 | AC27: 85.69
... A31: Total actif circulant (III=d+e+f+g+h) | B31: 129645.95 | C31: 17270.51 | D31: 25591.55 | E31: 86783.89 | F31: 49504.7 | G31: 3341.7 | H31: 5400.8 | I31: 40762.19 | J31: 21734.31 | K31: 1140.56 | L31: 3543.6 | M31: 17050.15 | N31: 7457.63 | O31: 1313.24 | P31: 2443.41 | Q31: 3700.98 | R31: 4872.33 | S31: 534.5 | T31: 1427.25 | U31: 2910.57 | V31: 14050.32 | W31: 3657.97 | X31: 4114.98 | Y31: 6277.37 | Z31: 32026.67 | AA31: 7282.54 | AB31: 8661.51 | AC31: 16082.63
A32: Autres comptes de régularisation (IV) | B32: 2672.27 | C32: 873.34 | D32: 338.09 | E32: 1460.84 | F32: 1949.11 | G32: 1006.31 | H32: -N- | I32: 971.93 | J32: 317.16 | K32: 38.68 | L32: 318.45 | M32: -N- | N32: 15.51 | O32: -N- | P32: 29.76 | Q32: 109.13 | R32: 6.98 | S32: 11.41 | T32: 8.82 | U32: -N- | V32: -N- | W32: -N- | X32: 21.35 | Y32: 41.62 | Z32: 463.36 | AA32: 83.15 | AB32: -N- | AC32: 391.38
A33: TOTAL ACTIF BRUT (I+II+III+IV) | B33: 429243.23 | C33: 42302.39 | D33: 54750.48 | E33: 332190.36 | F33: 230631.21 | G33: 13714.05 | H33: 17772.46 | I33: 199144.7 | J33: 43360.4 | K33: 1451.28 | L33: 6998.71 | M33: 34910.4 | N33: 15115.44 | O33: 1835.97 | P33: 4233.7 | Q33: 9045.76 | R33: 9317.73 | S33: 741.05 | T33: 2273.27 | U33: 6303.41 | V33: 31707.74 | W33: 10214.3 | X33: 7182.1 | Y33: 14311.33 | Z33: 99110.72 | AA33: 14345.73 | AB33: 16290.24 | AC33: 68474.75
A34: TOTAL DE L'ACTIF NET DES AMORTISSEMENTS ET PROVISIONS INSCRITS A L'ACTIF | B34: 368533.49 | C34: 32076.55 | D34: 45144.98 | E34: 291311.96 | F34: 192351.79 | G34: 8185.47 | H34: 13301.34 | I34: 170864.98 | J34: 41064.02 | K34: 1307.81 | L34: 6526.39 | M34: 33229.82 | N34: 12028.24 | O34: 1669.48 | P34: 3725.6 | Q34: 6633.16 | R34: 7775.29 | S34: 666.45 | T34: 2011.63 | U34: 5097.21 | V34: 25785.68 | W34: 7338.87 | X34: 5851.7 | Y34: 12595.11 | Z34: 89528.47 | AA34: 12908.46 | AB34: 13728.33 | AC34: 62891.68
A36: PASSIF
A37: en millions d'euros
A38: secteur d'activité | B38: N | C38: N | D38: N | E38: N | F38: 77 | G38: 77 | H38: 77 | I38: 77 | J38: 78 | K38: 78 | L38: 78 | M38: 78 | N38: 79 | O38: 79 | P38: 79 | Q38: 79 | R38: 80 | S38: 80 | T38: 80 | U38: 80 | V38: 81 | W38: 81 | X38: 81 | Y38: 81 | Z38: 82 | AA38: 82 | AB38: 82 | AC38: 82
B39: Activités de services administratifs et de soutien | C39: Activités de services administratifs et de soutien | D39: Activités de services administratifs et de soutien | E39: Activités de services administratifs et de soutien | F39: Activités de location et location-bail | G39: Activités de location et location-bail | H39: Activités de location et location-bail | I39: Activités de location et location-bail | J39: Activités liées à l'emploi | K39: Activités liées à l'emploi | L39: Activités liées à l'emploi | M39: Activités liées à l'emploi | N39: Activités des agences de voyage, voyagistes, services de réservation et activités connexes | O39: Activités des agences de voyage, voyagistes, services de réservation et activités connexes | P39: Activités des agences de voyage, voyagistes, services de réservation et activités connexes | Q39: Activités des agences de voyage, voyagistes, services de réservation et activités connexes | R39: Enquêtes et sécurité | S39: Enquêtes et sécurité | T39: Enquêtes et sécurité | U39: Enquêtes et sécurité | V39: Services relatifs aux bâtiments et aménagement paysager | W39: Services relatifs aux bâtiments et aménagement paysager | X39: Services relatifs aux bâtiments et aménagement paysager | Y39: Services relatifs aux bâtiments et aménagement paysager | Z39: Activités administratives et autres activités de soutien aux entreprises | AA39: Activités administratives et autres activités de soutien aux entreprises | AB39: Activités administratives et autres activités de soutien aux entreprises | AC39: Activités administratives et autres activités de soutien aux entreprises
A40: Tranche d'effectif | B40: Ensemble des catégories d'entreprise | C40: Microentreprises (MICRO) | D40: Petites et moyennes entreprises (PME), hors Microentreprises | E40: Entreprises de taille intermédiaire (ETI) ou Grandes entreprises (GE) | F40: Ensemble des catégories d'entreprise | G40: Microentreprises (MICRO) | H40: Petites et moyennes entreprises (PME), hors Microentreprises | I40: Entreprises de taille intermédiaire (ETI) ou Grandes entreprises (GE) | J40: Ensemble des catégories d'entreprise | K40: Microentreprises (MICRO) | L40: Petites et moyennes entreprises (PME), hors Microentreprises | M40: Entreprises de taille intermédiaire (ETI) ou Grandes entreprises (GE) | N40: Ensemble des catégories d'entreprise | O40: Microentreprises (MICRO) | P40: Petites et moyennes entreprises (PME), hors Microentreprises | Q40: Entreprises de taille intermédiaire (ETI) ou Grandes entreprises (GE) | R40: Ensemble des catégories d'entreprise | S40: Microentreprises (MICRO) | T40: Petites et moyennes entreprises (PME), hors Microentreprises | U40: Entreprises de taille intermédiaire (ETI) ou Grandes entreprises (GE) | V40: Ensemble des catégories d'entreprise | W40: Microentreprises (MICRO) | X40: Petites et moyennes entreprises (PME), hors Microentreprises | Y40: Entreprises de taille intermédiaire (ETI) ou Grandes entreprises (GE) | Z40: Ensemble des catégories d'entreprise | AA40: Microentreprises (MICRO) | AB40: Petites et moyennes entreprises (PME), hors Microentreprises | AC40: Entreprises de taille intermédiaire (ETI) ou Grandes entreprises (GE)
A41: Nombre d'entreprises | B41: 191875 | C41: 181717 | D41: 9728 | E41: 430 | F41: 38581 | G41: 37634 | H41: 878 | I41: 69 | J41: 7486 | K41: 6207 | L41: 1214 | M41: 65 | N41: 8539 | O41: 7836 | P41: 676 | Q41: 27 | R41: 8085 | S41: 6681 | T41: 1332 | U41: 72 | V41: 76424 | W41: 72594 | X41: 3733 | Y41: 97 | Z41: 52760 | AA41: 50765 | AB41: 1895 | AC41: 100
A42: Capital social (ou individuel) y compris primes (i) | B42: 65602.22 | C42: 8379.22 | D42: 8428.51 | E42: 48794.5 | F42: 26594.52 | G42: 2854.15 | H42: 3456.68 | I42: 20283.69 | J42: 8761.19 | K42: 141.37 | L42: 1177.84 | M42: 7441.97 | N42: 3277.62 | O42: 279.94 | P42: 813.76 | Q42: 2183.91 | R42: 1437.93 | S42: 53.35 | T42: 227.94 | U42: 1156.65 | V42: 4601.48 | W42: 2041.21 | X42: 678.26 | Y42: 1882 | Z42: 20929.48 | AA42: 3009.19 | AB42: 2074.02 | AC42: 15846.27
A43: Report à nouveau (j) | B43: 834.23 | C43: -2817.51 | D43: 462.23 | E43: 3189.51 | F43: -4585.02 | G43: -2077.83 | H43: -482.82 | I43: -2024.37 | J43: 939.5 | K43: 46.44 | L43: 417.3 | M43: 475.76 | N43: -954.16 | O43: 5.9 | P43: -28.89 | Q43: -931.18 | R43: -117.7 | S43: -6.2 | T43: 33.06 | U43: -144.56 | V43: 84.98 | W43: -521.74 | X43: 239 | Y43: 367.71 | Z43: 5466.63 | AA43: -264.08 | AB43: 284.57 | AC43: 5446.14
A44: Résultat de l'exercice comptable (k) | B44: 7544.36 | C44: 1056.14 | D44: 1716.28 | E44: 4771.95 | F44: 2795.16 | G44: -34.13 | H44: 494.46 | I44: 2334.83 | J44: 2022.72 | K44: 88.79 | L44: 436.68 | M44: 1497.25 | N44: -94.33 | O44: -17.46 | P44: 48.63 | Q44: -125.5 | R44: 190.56 | S44: 39.54 | T44: 78.96 | U44: 72.06 | V44: 1010.66 | W44: 444.75 | X44: 321.09 | Y44: 244.82 | Z44: 1619.61 | AA44: 534.65 | AB44: 336.47 | AC44: 748.49
...

Sheet SECTION_N_BILAN_2018
A1: Caractéristiques comptables, financières et d'emploi des unités légales - Bilan au niveau division selon la catégorie d'entreprise
A2: Note de lecture : N = Donnée non disponible, S = Donnée soumise au secret statistique
A3: Champ : France - Ensemble des entreprises marchandes y compris auto-entrepreneurs, hors agriculture et hors services financiers et d'assurance (mais y compris auxiliaires de services financiers et d'assurance, sociétés holdings)
A4: Source : Insee, Esane 2018
A5: en millions d'euros
A6: ACTIF
A7: secteur d'activité | B7: N | C7: N | D7: N | E7: N | F7: 77 | G7: 77 | H7: 77 | I7: 77 | J7: 78 | K7: 78 | L7: 78 | M7: 78 | N7: 79 | O7: 79 | P7: 79 | Q7: 79 | R7: 80 | S7: 80 | T7: 80 | U7: 80 | V7: 81 | W7: 81 | X7: 81 | Y7: 81 | Z7: 82 | AA7: 82 | AB7: 82 | AC7: 82
A8: activité | B8: Activités de services administratifs et de soutien | C8: Activités de services administratifs et de soutien | D8: Activités de services administratifs et de soutien | E8: Activités de services administratifs et de soutien | F8: Activités de location et location-bail | G8: Activités de location et location-bail | H8: Activités de location et location-bail | I8: Activités de location et location-bail | J8: Activités liées à l'emploi | K8: Activités liées à l'emploi | L8: Activités liées à l'emploi | M8: Activités liées à l'emploi | N8: Activités des agences de voyage, voyagistes, services de réservation et activités connexes | O8: Activités des agences de voyage, voyagistes, services de réservation et activités connexes | P8: Activités des agences de voyage, voyagistes, services de réservation et activités connexes | Q8: Activités des agences de voyage, voyagistes, services de réservation et activités connexes | R8: Enquêtes et sécurité | S8: Enquêtes et sécurité | T8: Enquêtes et sécurité | U8: Enquêtes et sécurité | V8: Services relatifs aux bâtiments et aménagement paysager | W8: Services relatifs aux bâtiments et aménagement paysager | X8: Services relatifs aux bâtiments et aménagement paysager | Y8: Services relatifs aux bâtiments et aménagement paysager | Z8: Activités administratives et autres activités de soutien aux entreprises | AA8: Activités administratives et autres activités de soutien aux entreprises | AB8: Activités administratives et autres activités de soutien aux entreprises | AC8: Activités administratives et autres activités de soutien aux entreprises
A9: Tranche d'effectif | B9: Ensemble des catégories d'entreprise | C9: Microentreprises (MICRO) | D9: Petites et moyennes entreprises (PME), hors Microentreprises | E9: Entreprises de taille intermédiaire (ETI) ou Grandes entreprises (GE) | F9: Ensemble des catégories d'entreprise | G9: Microentreprises (MICRO) | H9: Petites et moyennes entreprises (PME), hors Microentreprises | I9: Entreprises de taille intermédiaire (ETI) ou Grandes entreprises (GE) | J9: Ensemble des catégories d'entreprise | K9: Microentreprises (MICRO) | L9: Petites et moyennes entreprises (PME), hors Microentreprises | M9: Entreprises de taille intermédiaire (ETI) ou Grandes entreprises (GE) | N9: Ensemble des catégories d'entreprise | O9: Microentreprises (MICRO) | P9: Petites et moyennes entreprises (PME), hors Microentreprises | Q9: Entreprises de taille intermédiaire (ETI) ou Grandes entreprises (GE) | R9: Ensemble des catégories d'entreprise | S9: Microentreprises (MICRO) | T9: Petites et moyennes entreprises (PME), hors Microentreprises | U9: Entreprises de taille intermédiaire (ETI) ou Grandes entreprises (GE) | V9: Ensemble des catégories d'entreprise | W9: Microentreprises (MICRO) | X9: Petites et moyennes entreprises (PME), hors Microentreprises | Y9: Entreprises de taille intermédiaire (ETI) ou Grandes entreprises (GE) | Z9: Ensemble des catégories d'entreprise | AA9: Microentreprises (MICRO) | AB9: Petites et moyennes entreprises (PME), hors Microentreprises | AC9: Entreprises de taille intermédiaire (ETI) ou Grandes entreprises (GE)
A10: Nombre d'entreprises | B10: 201304 | C10: 191012 | D10: 9846 | E10: 446 | F10: 39220 | G10: 38288 | H10: 854 | I10: 78 | J10: 7471 | K10: 6169 | L10: 1231 | M10: 71 | N10: 9035 | O10: 8330 | P10: 678 | Q10: 27 | R10: 7928 | S10: 6566 | T10: 1295 | U10: 67 | V10: 81427 | W10: 77429 | X10: 3896 | Y10: 102 | Z10: 56223 | AA10: 54230 | AB10: 1892 | AC10: 101
A11: Capital souscrit non appelé (I) | B11: 400.57 | C11: 4.56 | D11: 6.15 | E11: 389.86 | F11: 358.02 | G11: 1.5 | H11: 1.62 | I11: 354.9 | J11: 1.98 | K11: 0.5 | L11: 0.57 | M11: 0.91 | N11: 2.05 | O11: 0.63 | P11: 1.42 | Q11: 0 | R11: 1.62 | S11: 0.7 | T11: 0.72 | U11: 0.19 | V11: 1.81 | W11: 0.28 | X11: 1.53 | Y11: 0 | Z11: 35.09 | AA11: 0.95 | AB11: 0.29 | AC11: 33.85
A12: Immobilisations incorporelles brutes (a) | B12: 18952.93 | C12: 1326.12 | D12: 2816.5 | E12: 14810.3 | F12: 5993.93 | G12: 300.74 | H12: 678.62 | I12: 5014.57 | J12: 3065.09 | K12: 72.82 | L12: 145.74 | M12: 2846.53 | N12: 1565.76 | O12: 114.77 | P12: 238.34 | Q12: 1212.64 | R12: 1034.9 | S12: 34.18 | T12: 132.79 | U12: 867.94 | V12: 2131.29 | W12: 358.02 | X12: 359.5 | Y12: 1413.77 | Z12: 5161.96 | AA12: 445.59 | AB12: 1261.52 | AC12: 3454.85
A13: Dont Fonds commercial | B13: 10429.88 | C13: 749.92 | D13: 1407.67 | E13: 8272.28 | F13: 3484.27 | G13: 183.16 | H13: 395.09 | I13: 2906.02 | J13: 1705.01 | K13: 10.98 | L13: 89.71 | M13: 1604.32 | N13: 928.34 | O13: 63.55 | P13: 107.51 | Q13: 757.28 | R13: 807.66 | S13: 22.41 | T13: 80.1 | U13: 705.15 | V13: 1687.89 | W13: 272.48 | X13: 291.46 | Y13: 1123.95 | Z13: 1816.72 | AA13: 197.35 | AB13: 443.8 | AC13: 1175.56
A14: Immobilisations corporelles brutes (b) | B14: 79824.83 | C14: 14835.14 | D14: 14068.34 | E14: 50921.34 | F14: 56927.88 | G14: 8256.33 | H14: 7673.33 | I14: 40998.23 | J14: 1976.62 | K14: 100.82 | L14: 244.83 | M14: 1630.97 | N14: 1395.77 | O14: 327.73 | P14: 432.79 | Q14: 635.25 | R14: 1697.29 | S14: 132.45 | T14: 304.8 | U14: 1260.05 | V14: 8055.95 | W14: 3511.3 | X14: 2122.73 | Y14: 2421.92 | Z14: 9771.3 | AA14: 2506.51 | AB14: 3289.87 | AC14: 3974.92
A15: Dont Terrains | B15: 1528.98 | C15: 198.74 | D15: 216.02 | E15: 1114.22 | F15: 856.6 | G15: 128.11 | H15: 69.6 | I15: 658.89 | J15: 35.22 | K15: 2.41 | L15: 9.63 | M15: 23.18 | N15: 28.95 | O15: 4.64 | P15: 11.29 | Q15: 13.02 | R15: 17.48 | S15: 1.87 | T15: 4.2 | U15: 11.41 | V15: 69.04 | W15: 16.47 | X15: 34.18 | Y15: 18.39 | Z15: 521.7 | AA15: 45.24 | AB15: 87.13 | AC15: 389.33
A16: Constructions | B16: 9003.17 | C16: 1054.31 | D16: 2297.59 | E16: 5651.27 | F16: 3559.93 | G16: 460.31 | H16: 507.66 | I16: 2591.95 | J16: 389.08 | K16: 10.95 | L16: 66.08 | M16: 312.05 | N16: 280.67 | O16: 34.87 | P16: 108.24 | Q16: 137.56 | R16: 163.63 | S16: 7.8 | T16: 54.81 | U16: 101.02 | V16: 1979.34 | W16: 100.33 | X16: 518.56 | Y16: 1360.44 | Z16: 2630.54 | AA16: 440.05 | AB16: 1042.24 | AC16: 1148.25
A17: Installations techniques, matériel et outillage industriels | B17: 24604.07 | C17: 4830.52 | D17: 5370.05 | E17: 14403.5 | F17: 17024.27 | G17: 1700.28 | H17: 3586.65 | I17: 11737.35 | J17: 697.99 | K17: 10.57 | L17: 8.44 | M17: 678.99 | N17: 208.12 | O17: 137.85 | P17: 46.99 | Q17: 23.28 | R17: 723.65 | S17: 55.93 | T17: 90.65 | U17: 577.06 | V17: 3012.23 | W17: 1772.12 | X17: 674.42 | Y17: 565.69 | Z17: 2937.81 | AA17: 1153.77 | AB17: 962.9 | AC17: 821.14
A18: Autres immobilisations corporelles | B18: 43231.93 | C18: 8630.24 | D18: 5966.85 | E18: 28634.84 | F18: 34682.71 | G18: 5941.91 | H18: 3389.25 | I18: 25351.55 | J18: 784.19 | K18: 64.71 | L18: 157.49 | M18: 561.99 | N18: 843.67 | O18: 149.39 | P18: 261.25 | Q18: 433.02 | R18: 749.92 | S18: 66.61 | T18: 147.26 | U18: 536.04 | V18: 2961.93 | W18: 1616.58 | X18: 883.29 | Y18: 462.06 | Z18: 3209.52 | AA18: 791.02 | AB18: 1128.32 | AC18: 1290.18
A19: dont matériel de transport: | B19: 28357.37 | C19: 3127.33 | D19: 3575.89 | E19: 21654.15 | F19: 26015.12 | G19: 2007.19 | H19: 2859.04 | I19: 21148.9 | J19: 48.43 | K19: 11.83 | L19: 22.05 | M19: 14.54 | N19: 287.1 | O19: 35.58 | P19: 73.99 | Q19: 177.53 | R19: 226.57 | S19: 37.08 | T19: 46.32 | U19: 143.17 | V19: 1482.25 | W19: 863.19 | X19: 479.24 | Y19: 139.83 | Z19: 297.9 | AA19: 172.46 | AB19: 95.25 | AC19: 30.19
A20: Immobilisations en cours | B20: 1322.47 | C20: 112.95 | D20: 156.63 | E20: 1052.9 | F20: 726.34 | G20: 22.01 | H20: 72.54 | I20: 631.79 | J20: 66.57 | K20: 11.95 | L20: 2.91 | M20: 51.71 | N20: 22.75 | O20: 0.86 | P20: 3.58 | Q20: 18.32 | R20: 39.75 | S20: 0.21 | T20: 6.53 | U20: 33.01 | V20: 30.17 | W20: 5.62 | X20: 10.39 | Y20: 14.16 | Z20: 436.89 | AA20: 72.3 | AB20: 60.68 | AC20: 303.92
A21: Avances et acomptes | B21: 134.2 | C21: 8.39 | D21: 61.2 | E21: 64.61 | F21: 78.02 | G21: 3.71 | H21: 47.62 | I21: 26.7 | J21: 3.58 | K21: 0.23 | L21: 0.29 | M21: 3.06 | N21: 11.63 | O21: 0.12 | P21: 1.44 | Q21: 10.06 | R21: 2.87 | S21: 0.02 | T21: 1.35 | U21: 1.5 | V21: 3.25 | W21: 0.17 | X21: 1.89 | Y21: 1.18 | Z21: 34.85 | AA21: 4.13 | AB21: 8.61 | AC21: 22.1
... A31: Total actif circulant (III=d+e+f+g+h) | B31: 159095.84 | C31: 16366.32 | D31: 25235.75 | E31: 117493.77 | F31: 45042.16 | G31: 3396.37 | H31: 5483.79 | I31: 36162 | J31: 58225.07 | K31: 1313.77 | L31: 3589.09 | M31: 53322.21 | N31: 7180.19 | O31: 1229.29 | P31: 2423.9 | Q31: 3527.01 | R31: 5707.54 | S31: 603.33 | T31: 1689.7 | U31: 3414.5 | V31: 14636.99 | W31: 3538.92 | X31: 4147.85 | Y31: 6950.23 | Z31: 28303.89 | AA31: 6284.64 | AB31: 7901.43 | AC31: 14117.82
A32: Autres comptes de régularisation (IV) | B32: 979.31 | C32: -N- | D32: -N- | E32: 1793.01 | F32: 359.68 | G32: -N- | H32: -N- | I32: 572.3 | J32: 712.41 | K32: 3.49 | L32: -N- | M32: 713.29 | N32: -N- | O32: -N- | P32: 46.62 | Q32: -N- | R32: 20.34 | S32: 7.66 | T32: -N- | U32: 78.2 | V32: -N- | W32: -N- | X32: -N- | Y32: 87.64 | Z32: 121.78 | AA32: -N- | AB32: -N- | AC32: 385.59
A33: TOTAL ACTIF BRUT (I+II+III+IV) | B33: 421775.8 | C33: 38096.27 | D33: 50282.52 | E33: 333397.01 | F33: 216749.93 | G33: 12641.19 | H33: 16838.65 | I33: 187270.09 | J33: 84563.96 | K33: 1945.71 | L33: 4785 | M33: 77833.25 | N33: 13136.51 | O33: 1824.3 | P33: 3797.46 | Q33: 7514.75 | R33: 10580.62 | S33: 841.65 | T33: 2509.21 | U33: 7229.76 | V33: 30862.48 | W33: 7954.75 | X33: 7696.77 | Y33: 15210.96 | Z33: 65882.31 | AA33: 12888.68 | AB33: 14655.44 | AC33: 38338.19
A34: TOTAL DE L'ACTIF NET DES AMORTISSEMENTS ET PROVISIONS INSCRITS A L'ACTIF | B34: 366607.39 | C34: 30673.81 | D34: 39835.61 | E34: 296097.98 | F34: 183583.11 | G34: 8463.04 | H34: 11485.65 | I34: 163634.42 | J34: 80969.15 | K34: 1743.8 | L34: 4476.87 | M34: 74748.48 | N34: 10108.67 | O34: 1657.87 | P34: 3376.23 | Q34: 5074.57 | R34: 8962.83 | S34: 760.21 | T34: 2202.05 | U34: 6000.57 | V34: 26066.27 | W34: 6347.72 | X34: 6263.86 | Y34: 13454.68 | Z34: 56917.37 | AA34: 11701.17 | AB34: 12030.95 | AC34: 33185.25
A36: PASSIF
A37: en millions d'euros
A38: secteur d'activité | B38: N | C38: N | D38: N | E38: N | F38: 77 | G38: 77 | H38: 77 | I38: 77 | J38: 78 | K38: 78 | L38: 78 | M38: 78 | N38: 79 | O38: 79 | P38: 79 | Q38: 79 | R38: 80 | S38: 80 | T38: 80 | U38: 80 | V38: 81 | W38: 81 | X38: 81 | Y38: 81 | Z38: 82 | AA38: 82 | AB38: 82 | AC38: 82
B39: Activités de services administratifs et de soutien | C39: Activités de services administratifs et de soutien | D39: Activités de services administratifs et de soutien | E39: Activités de services administratifs et de soutien | F39: Activités de location et location-bail | G39: Activités de location et location-bail | H39: Activités de location et location-bail | I39: Activités de location et location-bail | J39: Activités liées à l'emploi | K39: Activités liées à l'emploi | L39: Activités liées à l'emploi | M39: Activités liées à l'emploi | N39: Activités des agences de voyage, voyagistes, services de réservation et activités connexes | O39: Activités des agences de voyage, voyagistes, services de réservation et activités connexes | P39: Activités des agences de voyage, voyagistes, services de réservation et activités connexes | Q39: Activités des agences de voyage, voyagistes, services de réservation et activités connexes | R39: Enquêtes et sécurité | S39: Enquêtes et sécurité | T39: Enquêtes et sécurité | U39: Enquêtes et sécurité | V39: Services relatifs aux bâtiments et aménagement paysager | W39: Services relatifs aux bâtiments et aménagement paysager | X39: Services relatifs aux bâtiments et aménagement paysager | Y39: Services relatifs aux bâtiments et aménagement paysager | Z39: Activités administratives et autres activités de soutien aux entreprises | AA39: Activités administratives et autres activités de soutien aux entreprises | AB39: Activités administratives et autres activités de soutien aux entreprises | AC39: Activités administratives et autres activités de soutien aux entreprises
A40: Tranche d'effectif | B40: Ensemble des catégories d'entreprise | C40: Microentreprises (MICRO) | D40: Petites et moyennes entreprises (PME), hors Microentreprises | E40: Entreprises de taille intermédiaire (ETI) ou Grandes entreprises (GE) | F40: Ensemble des catégories d'entreprise | G40: Microentreprises (MICRO) | H40: Petites et moyennes entreprises (PME), hors Microentreprises | I40: Entreprises de taille intermédiaire (ETI) ou Grandes entreprises (GE) | J40: Ensemble des catégories d'entreprise | K40: Microentreprises (MICRO) | L40: Petites et moyennes entreprises (PME), hors Microentreprises | M40: Entreprises de taille intermédiaire (ETI) ou Grandes entreprises (GE) | N40: Ensemble des catégories d'entreprise | O40: Microentreprises (MICRO) | P40: Petites et moyennes entreprises (PME), hors Microentreprises | Q40: Entreprises de taille intermédiaire (ETI) ou Grandes entreprises (GE) | R40: Ensemble des catégories d'entreprise | S40: Microentreprises (MICRO) | T40: Petites et moyennes entreprises (PME), hors Microentreprises | U40: Entreprises de taille intermédiaire (ETI) ou Grandes entreprises (GE) | V40: Ensemble des catégories d'entreprise | W40: Microentreprises (MICRO) | X40: Petites et moyennes entreprises (PME), hors Microentreprises | Y40: Entreprises de taille intermédiaire (ETI) ou Grandes entreprises (GE) | Z40: Ensemble des catégories d'entreprise | AA40: Microentreprises (MICRO) | AB40: Petites et moyennes entreprises (PME), hors Microentreprises | AC40: Entreprises de taille intermédiaire (ETI) ou Grandes entreprises (GE)
A41: Nombre d'entreprises | B41: 201304 | C41: 191012 | D41: 9846 | E41: 446 | F41: 39220 | G41: 38288 | H41: 854 | I41: 78 | J41: 7471 | K41: 6169 | L41: 1231 | M41: 71 | N41: 9035 | O41: 8330 | P41: 678 | Q41: 27 | R41: 7928 | S41: 6566 | T41: 1295 | U41: 67 | V41: 81427 | W41: 77429 | X41: 3896 | Y41: 102 | Z41: 56223 | AA41: 54230 | AB41: 1892 | AC41: 101
A42: Capital social (ou individuel) y compris primes (i) | B42: 58675.98 | C42: 6993.07 | D42: 6605.62 | E42: 45077.3 | F42: 28512.27 | G42: 2643.48 | H42: 2470.93 | I42: 23397.86 | J42: 10398.5 | K42: 203.85 | L42: 445.34 | M42: 9749.32 | N42: 1927.37 | O42: 254.43 | P42: 503.54 | Q42: 1169.41 | R42: 1643.05 | S42: 56.49 | T42: 259.37 | U42: 1327.2 | V42: 3621.31 | W42: 1000.68 | X42: 738.74 | Y42: 1881.89 | Z42: 12573.48 | AA42: 2834.15 | AB42: 2187.71 | AC42: 7551.63
A43: Report à nouveau (j) | B43: 3117.61 | C43: -N- | D43: 196.04 | E43: 4199.24 | F43: 1145.86 | G43: -N- | H43: -N- | I43: 3605.14 | J43: 1462.1 | K43: 267.39 | L43: 367.28 | M43: 827.43 | N43: -N- | O43: 5.57 | P43: 58.15 | Q43: -N- | R43: 302.44 | S43: 2.13 | T43: 66.37 | U43: 233.94 | V43: 615.07 | W43: 90.27 | X43: 248.89 | Y43: 275.92 | Z43: 32.3 | AA43: -N- | AB43: 374.51 | AC43: -N-
A44: Résultat de l'exercice comptable (k) | B44: 5709.53 | C44: 1046.61 | D44: 1253.37 | E44: 3409.55 | F44: 2614.97 | G44: -108.82 | H44: 377.89 | I44: 2345.89 | J44: 846.34 | K44: 82.14 | L44: 278.51 | M44: 485.69 | N44: -36.5 | O44: 34.72 | P44: 56.39 | Q44: -127.6 | R44: 279.2 | S44: 61.25 | T44: 57.18 | U44: 160.78 | V44: 919.57 | W44: 487.9 | X44: 282.82 | Y44: 148.85 | Z44: 1085.95 | AA44: 489.42 | AB44: 200.59 | AC44: 395.94
A45: Réserves (l) | B45: 16332.72 | C45: 3564.54 | D45: 5772.3 | E45: 6995.88 | F45: 9341.69 | G45: 955.34 | H45: 1882 | I45: 6504.34 | J45: -N- | K45: 269.46 | L45: 663.09 | M45: -N- | N45: 917.53 | O45: 188.89 | P45: 347.28 | Q45: 381.35 | R45: 956.2 | S45: 98.78 | T45: 332.52 | U45: 524.9 | V45: 3729.75 | W45: 888.77 | X45: 1355.05 | Y45: 1485.93 | Z45: 3586.99 | AA45: 1163.29 | AB45: 1192.36 | AC45: 1231.34
A46: Autres capitaux propres (m) | B46: 5321.58 | C46: -N- | D46: 624.94 | E46: 4503.37 | F46: 4487.39 | G46: -N- | H46: -N- | I46: 4041.92 | J46: -N- | K46: 1.57 | L46: 3.06 | M46: -N- | N46: -N- | O46: 1.55 | P46: 23.15 | Q46: -N- | R46: 10.16 | S46: 0.46 | T46: 2.66 | U46: 7.01 | V46: 86.68 | W46: 16.92 | X46: 47.3 | Y46: 22.45 | Z46: 541.47 | AA46: -N- | AB46: 185.64 | AC46: -N-
A47: Total des capitaux propres (I=i+j+k+l+m) | B47: 89157.42 | C47: 10519.82 | D47: 14452.27 | E47: 64185.34 | F47: 46102.18 | G47: 2032.27 | H47: 4174.77 | I47: 39895.15 | J47: 10663.76 | K47: 824.41 | L47: 1757.28 | M47: 8082.07 | N47: 2407.87 | O47: 485.16 | P47: 988.51 | Q47: 934.2 | R47: 3191.05 | S47: 219.11 | T47: 718.1 | U47: 2253.83 | V47: 8972.38 | W47: 2484.54 | X47: 2672.8 | Y47: 3815.04 | Z47: 17820.19 | AA47: 4474.33 | AB47: 4140.81 | AC47: 9205.06
A48: Total des autres fonds propres (II) | B48: 1502.94 | C48: 19.21 | D48: 178.73 | E48: 1304.99 | F48: 1013.86 | G48: 0.4 | H48: 54.58 | I48: 958.88 | J48: 1.26 | K48: 0.12 | L48: 0.39 | M48: 0.74 | N48: 5.42 | O48: -N- | P48: 5.94 | Q48: 1.84 | R48: 27.01 | S48: 0.05 | T48: 0.12 | U48: 26.84 | V48: 308.83 | W48: 0.58 | X48: 1.55 | Y48: 306.71 | Z48: 146.56 | AA48: 20.42 | AB48: 116.16 | AC48: 9.98
A49: Total des provisions pour risques et charges (III) | B49: 4114.44 | C49: 138.01 | D49: 584.92 | E49: 3391.52 | F49: 1215.87 | G49: 34.37 | H49: 130.92 | I49: 1050.59 | J49: 1210.65 | K49: 12.96 | L49: 45.64 | M49: 1152.05 | N49: 172.25 | O49: 6.43 | P49: 31.35 | Q49: 134.46 | R49: 138.47 | S49: 6.36 | T49: 27.23 | U49: 104.88 | V49: 216.07 | W49: 10.99 | X49: 48.76 | Y49: 156.33 | Z49: 1161.13 | AA49: 66.9 | AB49: 301.02 | AC49: 793.21
A50: Emprunts, dettes assimilées (n) | B50: 169798.1 | C50: 8708.42 | D50: 10312.69 | E50: 150776.99 | F50: 117083.26 | G50: 3439.51 | H50: 4668.52 | I50: 108975.24 | J50: 23680.65 | K50: 141.26 | L50: 700.21 | M50: 22839.19 | N50: 2092.35 | O50: 245.84 | P50: 544.88 | Q50: 1301.64 | R50: 1769.41 | S50: 89.5 | T50: 336.82 | U50: 1343.1 | V50: 6721.09 | W50: 1527.41 | X50: 1280.4 | Y50: 3913.28 | Z50: 18451.33 | AA50: 3264.92 | AB50: 2781.87 | AC50: 12404.55
...

Sheet SECTION_I_CR_2017
A1: Caractéristiques comptables, financières et d'emploi des entreprises - Compte de résultat au niveau division selon la catégorie d'entreprise
A2: Note de lecture : N = Donnée non disponible, S = Donnée soumise au secret statistique
A3: Champ : France - Ensemble des entreprises marchandes y compris auto-entrepreneurs, hors agriculture et hors services financiers et d'assurance (mais y compris auxiliaires de services financiers et d'assurance, sociétés holdings)
A4: Source : Insee, Esane 2017
A6: en millions d'euros
A7: secteur d'activité | B7: I | C7: I | D7: I | E7: I | F7: 55 | G7: 55 | H7: 55 | I7: 55 | J7: 56 | K7: 56 | L7: 56 | M7: 56
A8: activité | B8: Hébergement et restauration | C8: Hébergement et restauration | D8: Hébergement et restauration | E8: Hébergement et restauration | F8: Hébergement | G8: Hébergement | H8: Hébergement | I8: Hébergement | J8: Restauration | K8: Restauration | L8: Restauration | M8: Restauration
A9: Catégorie d'entreprise | B9: Ensemble des catégories d'entreprise | C9: Microentreprises (MICRO) | D9: Petites et moyennes entreprises (PME), hors Microentreprises | E9: Entreprises de taille intermédiaire (ETI) ou Grandes entreprises (GE) | F9: Ensemble des catégories d'entreprise | G9: Microentreprises (MICRO) | H9: Petites et moyennes entreprises (PME), hors Microentreprises | I9: Entreprises de taille intermédiaire (ETI) ou Grandes entreprises (GE) | J9: Ensemble des catégories d'entreprise | K9: Microentreprises (MICRO) | L9: Petites et moyennes entreprises (PME), hors Microentreprises | M9: Entreprises de taille intermédiaire (ETI) ou Grandes entreprises (GE)
A10: Nombre d'entreprises | B10: 256539 | C10: 244045 | D10: 12330 | E10: 164 | F10: 50417 | G10: 46892 | H10: 3439 | I10: 86 | J10: 206122 | K10: 197153 | L10: 8891 | M10: 78
A11: Chiffre d'affaires Hors Taxes (a+d1+d2) | B11: 99627.5 | C11: 36581.75 | D11: 32432.65 | E11: 30613.1 | F11: 27066.42 | G11: 6683.89 | H11: 10440.04 | I11: 9942.48 | J11: 72561.08 | K11: 29897.86 | L11: 21992.61 | M11: 20670.61
A12: dont exportations | B12: 2214.92 | C12: 377.74 | D12: 263.29 | E12: 1573.89 | F12: 974.47 | G12: 51.55 | H12: 124.53 | I12: 798.39 | J12: 1240.45 | K12: 326.19 | L12: 138.76 | M12: 775.5
